BEGIN:VCALENDAR
VERSION:2.0
PRODID:-//ChamberMaster//Event Calendar 2.0//EN
METHOD:PUBLISH
X-PUBLISHED-TTL:P3D
REFRESH-INTERVAL:P3D
CALSCALE:GREGORIAN
BEGIN:VEVENT
DTSTART:20240203T130000Z
DTEND:20240203T180000Z
X-MICROSOFT-CDO-ALLDAYEVENT:FALSE
SUMMARY:Dundas Ruritan Breakfast
DESCRIPTION:
X-ALT-DESC;FMTTYPE=text/html:
LOCATION:
UID:e.356.14589
SEQUENCE:3
DTSTAMP:20260421T181911Z
URL:https://business.olneychamber.net/events/details/dundas-ruritan-breakfast-02-03-2024-14589
END:VEVENT

END:VCALENDAR
